BEGIN:VCALENDAR
VERSION:2.0
PRODID:-//Plone.org//NONSGML plone.app.event//EN
X-WR-TIMEZONE:Europe/Madrid
BEGIN:VEVENT
SUMMARY:Revetlla del Barri de Santa Rosa
DTSTART;VALUE=DATE:20240615
DTEND;VALUE=DATE:20240616
DTSTAMP;VALUE=DATE-TIME:20260421T140316Z
UID:40ffe1684a7a4568b3912265cb0ff968@www.molletvalles.cat
CATEGORIES:Festes populars
CREATED;VALUE=DATE-TIME:20240603T131352Z
LAST-MODIFIED;VALUE=DATE-TIME:20240613T081539Z
LOCATION:Carrer Sant Francesc\, entre els carrers Sant Josep i Santiago Ti
 ffon
URL:https://www.molletvalles.cat/ca/actualitat/agenda/revetlla-del-barri-d
 e-santa-rosa
END:VEVENT
END:VCALENDAR
