BEGIN:VCALENDAR
VERSION:2.0
PRODID:-//Plone.org//NONSGML plone.app.event//EN
X-WR-TIMEZONE:Europe/Madrid
BEGIN:VEVENT
SUMMARY:Sessió formativa "Tot el que no t'han explicat sobre hisenda i la
  seguretat social (i que necessites saber)"
DTSTART;TZID=Europe/Madrid;VALUE=DATE-TIME:20251118T100000
DTEND;TZID=Europe/Madrid;VALUE=DATE-TIME:20251118T120000
DTSTAMP;VALUE=DATE-TIME:20260421T160350Z
UID:4c54d67368f64612a592e69a61928057@www.molletvalles.cat
CATEGORIES:Cursos i tallers
CREATED;VALUE=DATE-TIME:20251110T111516Z
LAST-MODIFIED;VALUE=DATE-TIME:20251110T112219Z
LOCATION:Mollet Hub (Av. de Jaume I\, 32)
URL:https://www.molletvalles.cat/ca/actualitat/agenda/sesio-formativa-tot-
 el-que-no-than-explicat-sobre-hisenda-i-la-seguretat-social-i-que-necessit
 es-saber
END:VEVENT
BEGIN:VTIMEZONE
TZID:Europe/Madrid
X-LIC-LOCATION:Europe/Madrid
BEGIN:STANDARD
DTSTART;VALUE=DATE-TIME:20251026T020000
TZNAME:CET
TZOFFSETFROM:+0200
TZOFFSETTO:+0100
END:STANDARD
END:VTIMEZONE
END:VCALENDAR
