BEGIN:VCALENDAR
VERSION:2.0
PRODID:-//Plone.org//NONSGML plone.app.event//EN
X-WR-TIMEZONE:Europe/Madrid
BEGIN:VEVENT
SUMMARY:Sons de Nadal a l'arbre\, a càrrec de la Xel·lista Núria Conang
 la
DTSTART;TZID=Europe/Madrid;VALUE=DATE-TIME:20231223T190000
DTEND;TZID=Europe/Madrid;VALUE=DATE-TIME:20231223T200000
DTSTAMP;VALUE=DATE-TIME:20260421T140602Z
UID:685cc1219c7f483d8a59cc8b6c468015@www.molletvalles.cat
CATEGORIES:Música
CREATED;VALUE=DATE-TIME:20231213T082057Z
DESCRIPTION:NADAL A MOLLET
LAST-MODIFIED;VALUE=DATE-TIME:20231220T105059Z
LOCATION:Rambla Fiveller - Rambla Balmes
URL:https://www.molletvalles.cat/ca/actualitat/agenda/sons-de-nadal-a-larb
 re-a-carrec-de-la-xel-lista-nuria-conangla
END:VEVENT
BEGIN:VTIMEZONE
TZID:Europe/Madrid
X-LIC-LOCATION:Europe/Madrid
BEGIN:STANDARD
DTSTART;VALUE=DATE-TIME:20231029T020000
TZNAME:CET
TZOFFSETFROM:+0200
TZOFFSETTO:+0100
END:STANDARD
END:VTIMEZONE
END:VCALENDAR
