BEGIN:VCALENDAR
VERSION:2.0
PRODID:-//Plone.org//NONSGML plone.app.event//EN
X-WR-TIMEZONE:Europe/Madrid
BEGIN:VEVENT
SUMMARY:Sopar de germanor. Gazpatxo de l'hort de Gallecs\, botifarra al fo
 rn amb verdures de Gallecs i sorbet de llimona i beguda
DTSTART;TZID=Europe/Madrid;VALUE=DATE-TIME:20230722T210000
DTEND;TZID=Europe/Madrid;VALUE=DATE-TIME:20230722T220000
DTSTAMP;VALUE=DATE-TIME:20260419T162511Z
UID:72eeba56e6fd437da7479d50b62fde6e@www.molletvalles.cat
CATEGORIES:Festes populars
CREATED;VALUE=DATE-TIME:20230704T130049Z
DESCRIPTION:FESTA MAJOR DE GALLECS 2023
LAST-MODIFIED;VALUE=DATE-TIME:20230706T123528Z
LOCATION:Darrera Plaça de l'església de Gallecs
URL:https://www.molletvalles.cat/ca/actualitat/agenda/sopar-de-germanor-ga
 zpatxo-de-lhort-de-gallecs-botifarra-al-forn-amb-verdures-de-gallecs-i-sor
 bet-de-llimona-i-beguda
END:VEVENT
BEGIN:VTIMEZONE
TZID:Europe/Madrid
X-LIC-LOCATION:Europe/Madrid
BEGIN:DAYLIGHT
DTSTART;VALUE=DATE-TIME:20230326T030000
TZNAME:CEST
TZOFFSETFROM:+0100
TZOFFSETTO:+0200
END:DAYLIGHT
END:VTIMEZONE
END:VCALENDAR
