BEGIN:VCALENDAR
VERSION:2.0
PRODID:-//Plone.org//NONSGML plone.app.event//EN
X-WR-TIMEZONE:Europe/Madrid
BEGIN:VEVENT
SUMMARY:Sortida Cultural: "Antoni Tàpies. La imaginació del món"
DTSTART;TZID=Europe/Madrid;VALUE=DATE-TIME:20250524T100000
DTEND;TZID=Europe/Madrid;VALUE=DATE-TIME:20250524T110000
DTSTAMP;VALUE=DATE-TIME:20260421T135737Z
UID:f3fc63cbbb574cd4a905ef7fbf2d75d2@www.molletvalles.cat
CATEGORIES:Actes diversos
CREATED;VALUE=DATE-TIME:20250410T120134Z
LAST-MODIFIED;VALUE=DATE-TIME:20250414T071952Z
URL:https://www.molletvalles.cat/ca/actualitat/agenda/sortida-cultural-ant
 oni-tapies-la-imaginacio-del-mon
END:VEVENT
BEGIN:VTIMEZONE
TZID:Europe/Madrid
X-LIC-LOCATION:Europe/Madrid
BEGIN:DAYLIGHT
DTSTART;VALUE=DATE-TIME:20250330T030000
TZNAME:CEST
TZOFFSETFROM:+0100
TZOFFSETTO:+0200
END:DAYLIGHT
END:VTIMEZONE
END:VCALENDAR
