BEGIN:VCALENDAR
VERSION:2.0
PRODID:-//Plone.org//NONSGML plone.app.event//EN
X-WR-TIMEZONE:Europe/Madrid
BEGIN:VEVENT
SUMMARY:Sortida familiar per conèixer la flora de Gallecs
DTSTART;TZID=Europe/Madrid;VALUE=DATE-TIME:20260430T184500
DTEND;TZID=Europe/Madrid;VALUE=DATE-TIME:20260430T210000
DTSTAMP;VALUE=DATE-TIME:20260422T003756Z
UID:b6d679f5e1f743d5bbf9f2854711941a@www.molletvalles.cat
CREATED;VALUE=DATE-TIME:20260421T084302Z
LAST-MODIFIED;VALUE=DATE-TIME:20260421T084420Z
LOCATION:La sortida serà des de la porta del Centre Cívic de Can Borrell
URL:https://www.molletvalles.cat/ca/actualitat/agenda/sortida-familiar-per
 -coneixer-la-flora-de-gallecs-1
END:VEVENT
BEGIN:VTIMEZONE
TZID:Europe/Madrid
X-LIC-LOCATION:Europe/Madrid
BEGIN:DAYLIGHT
DTSTART;VALUE=DATE-TIME:20260329T030000
TZNAME:CEST
TZOFFSETFROM:+0100
TZOFFSETTO:+0200
END:DAYLIGHT
END:VTIMEZONE
END:VCALENDAR
