BEGIN:VCALENDAR
VERSION:2.0
PRODID:-//Plone.org//NONSGML plone.app.event//EN
X-WR-TIMEZONE:Europe/Madrid
BEGIN:VEVENT
SUMMARY:SWING. Actuació de l'Orquestra del Baix Montseny i Estoc de Veus
DTSTART;TZID=Europe/Madrid;VALUE=DATE-TIME:20230317T210000
DTEND;TZID=Europe/Madrid;VALUE=DATE-TIME:20230317T220000
DTSTAMP;VALUE=DATE-TIME:20260425T140023Z
UID:3ba81709a60c48cda2fd4d8ea7903420@www.molletvalles.cat
CATEGORIES:Música\, cinema i espectacles
CREATED;VALUE=DATE-TIME:20230130T080526Z
DESCRIPTION:ARTS I ESCENA
LAST-MODIFIED;VALUE=DATE-TIME:20230208T142038Z
LOCATION:Mercat Vell
URL:https://www.molletvalles.cat/ca/actualitat/agenda/swing-actuacio-de-lo
 rquestra-del-baix-montseny-i-estoc-de-veus
END:VEVENT
BEGIN:VTIMEZONE
TZID:Europe/Madrid
X-LIC-LOCATION:Europe/Madrid
BEGIN:STANDARD
DTSTART;VALUE=DATE-TIME:20221030T020000
TZNAME:CET
TZOFFSETFROM:+0200
TZOFFSETTO:+0100
END:STANDARD
END:VTIMEZONE
END:VCALENDAR
