BEGIN:VCALENDAR
VERSION:2.0
PRODID:-//Plone.org//NONSGML plone.app.event//EN
X-WR-TIMEZONE:Europe/Madrid
BEGIN:VEVENT
SUMMARY:Taller: Entendre les factures (llum i gas) i consells per estalvia
 r energia a la llar
DTSTART;TZID=Europe/Madrid;VALUE=DATE-TIME:20240522T110000
DTEND;TZID=Europe/Madrid;VALUE=DATE-TIME:20240522T120000
DTSTAMP;VALUE=DATE-TIME:20260419T144656Z
UID:258e2dd598544bdebd848b70f5726f87@www.molletvalles.cat
CATEGORIES:Cursos i tallers
CREATED;VALUE=DATE-TIME:20240408T094535Z
LAST-MODIFIED;VALUE=DATE-TIME:20240503T091914Z
URL:https://www.molletvalles.cat/ca/actualitat/agenda/taller-entendre-les-
 factures-llum-i-gas-i-consells-per-estalviar-energia-a-la-llar-1
END:VEVENT
BEGIN:VTIMEZONE
TZID:Europe/Madrid
X-LIC-LOCATION:Europe/Madrid
BEGIN:DAYLIGHT
DTSTART;VALUE=DATE-TIME:20240331T030000
TZNAME:CEST
TZOFFSETFROM:+0100
TZOFFSETTO:+0200
END:DAYLIGHT
END:VTIMEZONE
END:VCALENDAR
