BEGIN:VCALENDAR
VERSION:2.0
PRODID:-//Plone.org//NONSGML plone.app.event//EN
X-WR-TIMEZONE:Europe/Madrid
BEGIN:VEVENT
SUMMARY:Taller familiar: “Fes-te la maleta per l‘estiu“
DTSTART;TZID=Europe/Madrid;VALUE=DATE-TIME:20240122T120000
DTEND;TZID=Europe/Madrid;VALUE=DATE-TIME:20240122T130000
DTSTAMP;VALUE=DATE-TIME:20260421T140154Z
UID:a9ec3f2905c747bf9497d55420a3013e@www.molletvalles.cat
CATEGORIES:Infantil,Cursos i tallers
CREATED;VALUE=DATE-TIME:20240115T132428Z
DESCRIPTION:FESTA MAJOR D'HIVERN
LAST-MODIFIED;VALUE=DATE-TIME:20240115T132607Z
URL:https://www.molletvalles.cat/ca/actualitat/agenda/taller-familiar-201c
 fes-te-la-maleta-per-l2018estiu201c
END:VEVENT
BEGIN:VTIMEZONE
TZID:Europe/Madrid
X-LIC-LOCATION:Europe/Madrid
BEGIN:STANDARD
DTSTART;VALUE=DATE-TIME:20231029T020000
TZNAME:CET
TZOFFSETFROM:+0200
TZOFFSETTO:+0100
END:STANDARD
END:VTIMEZONE
END:VCALENDAR
