BEGIN:VCALENDAR
VERSION:2.0
PRODID:-//Plone.org//NONSGML plone.app.event//EN
X-WR-TIMEZONE:Europe/Madrid
BEGIN:VEVENT
SUMMARY:Taller familiar: Fem unes ales de papallona
DTSTART;TZID=Europe/Madrid;VALUE=DATE-TIME:20230711T183000
DTEND;TZID=Europe/Madrid;VALUE=DATE-TIME:20230711T193000
DTSTAMP;VALUE=DATE-TIME:20260425T140215Z
UID:3abbad52b04a4b8f924fbdf8b8549917@www.molletvalles.cat
CATEGORIES:Tallers
CREATED;VALUE=DATE-TIME:20230703T070103Z
LAST-MODIFIED;VALUE=DATE-TIME:20230703T075107Z
LOCATION:Bibliojardí de la Biblioteca Can Mulà- Jordi Solé Tura
URL:https://www.molletvalles.cat/ca/actualitat/agenda/taller-familiar-fem-
 unes-ales-de-papallona
END:VEVENT
BEGIN:VTIMEZONE
TZID:Europe/Madrid
X-LIC-LOCATION:Europe/Madrid
BEGIN:DAYLIGHT
DTSTART;VALUE=DATE-TIME:20230326T030000
TZNAME:CEST
TZOFFSETFROM:+0100
TZOFFSETTO:+0200
END:DAYLIGHT
END:VTIMEZONE
END:VCALENDAR
