BEGIN:VCALENDAR
VERSION:2.0
PRODID:-//Plone.org//NONSGML plone.app.event//EN
X-WR-TIMEZONE:Europe/Madrid
BEGIN:VEVENT
SUMMARY:Taller familiar: Papiroflèxia\, fem un vaixell!
DTSTART;TZID=Europe/Madrid;VALUE=DATE-TIME:20230714T183000
DTEND;TZID=Europe/Madrid;VALUE=DATE-TIME:20230714T193000
DTSTAMP;VALUE=DATE-TIME:20260421T173854Z
UID:9637925f0df949189f8d22bb00ffb4b3@www.molletvalles.cat
CATEGORIES:Tallers
CREATED;VALUE=DATE-TIME:20230703T083019Z
LAST-MODIFIED;VALUE=DATE-TIME:20230703T085857Z
LOCATION:Bibliojardí de la Biblioteca Can Mulà- Jordi Solé Tura
URL:https://www.molletvalles.cat/ca/actualitat/agenda/taller-familiar-papi
 roflexia-fem-un-vaixell
END:VEVENT
BEGIN:VTIMEZONE
TZID:Europe/Madrid
X-LIC-LOCATION:Europe/Madrid
BEGIN:DAYLIGHT
DTSTART;VALUE=DATE-TIME:20230326T030000
TZNAME:CEST
TZOFFSETFROM:+0100
TZOFFSETTO:+0200
END:DAYLIGHT
END:VTIMEZONE
END:VCALENDAR
