BEGIN:VCALENDAR
VERSION:2.0
PRODID:-//Plone.org//NONSGML plone.app.event//EN
X-WR-TIMEZONE:Europe/Madrid
BEGIN:VEVENT
SUMMARY:Taller familiar: "Paraules justes"\, dissenyarem pancartes\, octav
 etes i altres elements d'escriptura a l'espai públic
DTSTART;TZID=Europe/Madrid;VALUE=DATE-TIME:20251122T120000
DTEND;TZID=Europe/Madrid;VALUE=DATE-TIME:20251122T130000
DTSTAMP;VALUE=DATE-TIME:20260421T160449Z
UID:5c764f1716bf4c6abc263b9dec910603@www.molletvalles.cat
CATEGORIES:Cursos i tallers
CREATED;VALUE=DATE-TIME:20251112T131112Z
LAST-MODIFIED;VALUE=DATE-TIME:20251112T131909Z
URL:https://www.molletvalles.cat/ca/actualitat/agenda/taller-familiar-para
 ules-justes-dissenyarem-pancartes-octavetes-i-altres-elements-descriptura-
 a-lespai-public
END:VEVENT
BEGIN:VTIMEZONE
TZID:Europe/Madrid
X-LIC-LOCATION:Europe/Madrid
BEGIN:STANDARD
DTSTART;VALUE=DATE-TIME:20251026T020000
TZNAME:CET
TZOFFSETFROM:+0200
TZOFFSETTO:+0100
END:STANDARD
END:VTIMEZONE
END:VCALENDAR
