BEGIN:VCALENDAR
VERSION:2.0
PRODID:-//Plone.org//NONSGML plone.app.event//EN
X-WR-TIMEZONE:Europe/Madrid
BEGIN:VEVENT
SUMMARY:Taller infantil de màscares amb els personatges de "El Mag d'Oz"
DTSTART;TZID=Europe/Madrid;VALUE=DATE-TIME:20250221T173000
DTEND;TZID=Europe/Madrid;VALUE=DATE-TIME:20250221T183000
DTSTAMP;VALUE=DATE-TIME:20260421T140431Z
UID:31b945cba18049d5aa806385259774b9@www.molletvalles.cat
CATEGORIES:Infantil
CREATED;VALUE=DATE-TIME:20250210T083141Z
LAST-MODIFIED;VALUE=DATE-TIME:20250213T102256Z
URL:https://www.molletvalles.cat/ca/actualitat/agenda/taller-infantil-de-m
 ascares-amb-els-personatges-de-el-magic-doz
END:VEVENT
BEGIN:VTIMEZONE
TZID:Europe/Madrid
X-LIC-LOCATION:Europe/Madrid
BEGIN:STANDARD
DTSTART;VALUE=DATE-TIME:20241027T020000
TZNAME:CET
TZOFFSETFROM:+0200
TZOFFSETTO:+0100
END:STANDARD
END:VTIMEZONE
END:VCALENDAR
