BEGIN:VCALENDAR
VERSION:2.0
PRODID:-//Plone.org//NONSGML plone.app.event//EN
X-WR-TIMEZONE:Europe/Madrid
BEGIN:VEVENT
SUMMARY:Tallers familiars Cossos - estampació de roba -
DTSTART;TZID=Europe/Madrid;VALUE=DATE-TIME:20240819T180000
DTEND;TZID=Europe/Madrid;VALUE=DATE-TIME:20240819T190000
DTSTAMP;VALUE=DATE-TIME:20260425T130256Z
UID:036e652aba164e55b4d75495d95a4e46@www.molletvalles.cat
CATEGORIES:Tallers
CREATED;VALUE=DATE-TIME:20240730T065116Z
DESCRIPTION:FESTA MAJOR 2024
LAST-MODIFIED;VALUE=DATE-TIME:20240802T085508Z
URL:https://www.molletvalles.cat/ca/actualitat/agenda/tallers-familiars-co
 ssos-estampacio-de-roba
END:VEVENT
BEGIN:VTIMEZONE
TZID:Europe/Madrid
X-LIC-LOCATION:Europe/Madrid
BEGIN:DAYLIGHT
DTSTART;VALUE=DATE-TIME:20240331T030000
TZNAME:CEST
TZOFFSETFROM:+0100
TZOFFSETTO:+0200
END:DAYLIGHT
END:VTIMEZONE
END:VCALENDAR
