BEGIN:VCALENDAR
VERSION:2.0
PRODID:-//Plone.org//NONSGML plone.app.event//EN
X-WR-TIMEZONE:Europe/Madrid
BEGIN:VEVENT
SUMMARY:Taller familiar\, pinta el plat - pintar ceràmica
DTSTART;TZID=Europe/Madrid;VALUE=DATE-TIME:20240818T180000
DTEND;TZID=Europe/Madrid;VALUE=DATE-TIME:20240818T190000
DTSTAMP;VALUE=DATE-TIME:20260423T123243Z
UID:c3a997d76c1944039446201e26302f22@www.molletvalles.cat
CATEGORIES:Taller
CREATED;VALUE=DATE-TIME:20240726T103551Z
DESCRIPTION:FESTA MAJOR 2024
LAST-MODIFIED;VALUE=DATE-TIME:20240802T084626Z
URL:https://www.molletvalles.cat/ca/actualitat/agenda/tallers-familiars-pi
 nta-el-plat-pintar-ceramica
END:VEVENT
BEGIN:VTIMEZONE
TZID:Europe/Madrid
X-LIC-LOCATION:Europe/Madrid
BEGIN:DAYLIGHT
DTSTART;VALUE=DATE-TIME:20240331T030000
TZNAME:CEST
TZOFFSETFROM:+0100
TZOFFSETTO:+0200
END:DAYLIGHT
END:VTIMEZONE
END:VCALENDAR
