BEGIN:VCALENDAR
VERSION:2.0
PRODID:-//Plone.org//NONSGML plone.app.event//EN
X-WR-TIMEZONE:Europe/Madrid
BEGIN:VEVENT
SUMMARY:Tallers i activitats de la Colla dels Torrats previs a la Festa Ma
 jor
DTSTART;VALUE=DATE:20240724
DTEND;VALUE=DATE:20240725
DTSTAMP;VALUE=DATE-TIME:20260421T155921Z
UID:12cdb0bea409409e8d773de7c76ac73d@www.molletvalles.cat
CATEGORIES:Tallers
CREATED;VALUE=DATE-TIME:20240709T100255Z
LAST-MODIFIED;VALUE=DATE-TIME:20240709T103530Z
LOCATION:Plaça Prat de la Riba
URL:https://www.molletvalles.cat/ca/actualitat/agenda/tallers-i-activitats
 -de-la-colla-dels-torrats-previs-a-la-festa-major-2
END:VEVENT
END:VCALENDAR
