BEGIN:VCALENDAR
VERSION:2.0
PRODID:-//Plone.org//NONSGML plone.app.event//EN
X-WR-TIMEZONE:Europe/Madrid
BEGIN:VEVENT
SUMMARY:TALLERS INFANTILS I CAGA TIÓ
DTSTART;VALUE=DATE:20251221
DTEND;VALUE=DATE:20251222
DTSTAMP;VALUE=DATE-TIME:20260421T174707Z
UID:3f8f6f53817d430abaa09447337a9e76@www.molletvalles.cat
CATEGORIES:Infantil
CREATED;VALUE=DATE-TIME:20251209T104938Z
DESCRIPTION:NADAL A MOLLET
LAST-MODIFIED;VALUE=DATE-TIME:20251209T125511Z
LOCATION:Plaça Artesania
URL:https://www.molletvalles.cat/ca/actualitat/agenda/tallers-infantils-i-
 caga-tio
END:VEVENT
END:VCALENDAR
