BEGIN:VCALENDAR
VERSION:2.0
PRODID:-//Plone.org//NONSGML plone.app.event//EN
X-WR-TIMEZONE:Europe/Madrid
BEGIN:VEVENT
SUMMARY:Tarda de Dj a Can Borrell
DTSTART;VALUE=DATE:20260509
DTEND;VALUE=DATE:20260510
DTSTAMP;VALUE=DATE-TIME:20260425T035414Z
UID:243df3e890a842669cde16b2a8dddff6@www.molletvalles.cat
CATEGORIES:Música
CREATED;VALUE=DATE-TIME:20260424T092724Z
LAST-MODIFIED;VALUE=DATE-TIME:20260424T093051Z
URL:https://www.molletvalles.cat/ca/actualitat/agenda/tarda-de-dj-a-can-bo
 rrell-1
END:VEVENT
END:VCALENDAR
