BEGIN:VCALENDAR
VERSION:2.0
PRODID:-//Plone.org//NONSGML plone.app.event//EN
X-WR-TIMEZONE:Europe/Madrid
BEGIN:VEVENT
SUMMARY:Teatre: Estrena de l'obra  "Això és veritat?"
DTSTART;TZID=Europe/Madrid;VALUE=DATE-TIME:20250315T183000
DTEND;TZID=Europe/Madrid;VALUE=DATE-TIME:20250315T193000
DTSTAMP;VALUE=DATE-TIME:20260423T122611Z
UID:cfe09c78ce974b35888a98c788f13165@www.molletvalles.cat
CATEGORIES:Arts escèniques
CREATED;VALUE=DATE-TIME:20250303T103008Z
LAST-MODIFIED;VALUE=DATE-TIME:20250304T100903Z
URL:https://www.molletvalles.cat/ca/actualitat/agenda/teatre-estrena-de-lo
 bra-aixo-es-veritat
END:VEVENT
BEGIN:VTIMEZONE
TZID:Europe/Madrid
X-LIC-LOCATION:Europe/Madrid
BEGIN:STANDARD
DTSTART;VALUE=DATE-TIME:20241027T020000
TZNAME:CET
TZOFFSETFROM:+0200
TZOFFSETTO:+0100
END:STANDARD
END:VTIMEZONE
END:VCALENDAR
