BEGIN:VCALENDAR
VERSION:2.0
PRODID:-//Plone.org//NONSGML plone.app.event//EN
X-WR-TIMEZONE:Europe/Madrid
BEGIN:VEVENT
SUMMARY:Teatre infantil: "La llàntia meravellosa" a càrrec de Festuc Tea
 tre
DTSTART;TZID=Europe/Madrid;VALUE=DATE-TIME:20240114T120000
DTEND;TZID=Europe/Madrid;VALUE=DATE-TIME:20240114T130000
DTSTAMP;VALUE=DATE-TIME:20260425T140212Z
UID:bf352b19ae334631bf07ccc1a1e6a3af@www.molletvalles.cat
CATEGORIES:Infantil
CREATED;VALUE=DATE-TIME:20231218T115857Z
LAST-MODIFIED;VALUE=DATE-TIME:20231219T113706Z
URL:https://www.molletvalles.cat/ca/actualitat/agenda/teatre-infantil-la-l
 lantia-meravellosa-a-carrec-de-festuc-teatre
END:VEVENT
BEGIN:VTIMEZONE
TZID:Europe/Madrid
X-LIC-LOCATION:Europe/Madrid
BEGIN:STANDARD
DTSTART;VALUE=DATE-TIME:20231029T020000
TZNAME:CET
TZOFFSETFROM:+0200
TZOFFSETTO:+0100
END:STANDARD
END:VTIMEZONE
END:VCALENDAR
