BEGIN:VCALENDAR
VERSION:2.0
PRODID:-//Plone.org//NONSGML plone.app.event//EN
X-WR-TIMEZONE:Europe/Madrid
BEGIN:VEVENT
SUMMARY:Teatre: "La pell fina" de la Sala Flyhard
DTSTART;TZID=Europe/Madrid;VALUE=DATE-TIME:20230513T200000
DTEND;TZID=Europe/Madrid;VALUE=DATE-TIME:20230513T210000
DTSTAMP;VALUE=DATE-TIME:20260421T160312Z
UID:7f1c0eda9ad3417b9e8d13a3bb922865@www.molletvalles.cat
CATEGORIES:Arts escèniques,Música\, cinema i espectacles
CREATED;VALUE=DATE-TIME:20230201T104213Z
DESCRIPTION:ARTS I ESCENA
LAST-MODIFIED;VALUE=DATE-TIME:20230403T081230Z
LOCATION:Teatre Can Gomà
URL:https://www.molletvalles.cat/ca/actualitat/agenda/teatre-la-pell-fina-
 de-la-cia-princep-totilau-3
END:VEVENT
BEGIN:VTIMEZONE
TZID:Europe/Madrid
X-LIC-LOCATION:Europe/Madrid
BEGIN:DAYLIGHT
DTSTART;VALUE=DATE-TIME:20230326T030000
TZNAME:CEST
TZOFFSETFROM:+0100
TZOFFSETTO:+0200
END:DAYLIGHT
END:VTIMEZONE
END:VCALENDAR
