BEGIN:VCALENDAR
VERSION:2.0
PRODID:-//Plone.org//NONSGML plone.app.event//EN
X-WR-TIMEZONE:Europe/Madrid
BEGIN:VEVENT
SUMMARY:Teatre: "La Reina de Bellesa de Leenane"
DTSTART;TZID=Europe/Madrid;VALUE=DATE-TIME:20240421T180000
DTEND;TZID=Europe/Madrid;VALUE=DATE-TIME:20240421T190000
DTSTAMP;VALUE=DATE-TIME:20260425T135935Z
UID:5c29ada7f16744a29d350fe0cf3b86d7@www.molletvalles.cat
CATEGORIES:Arts escèniques
CREATED;VALUE=DATE-TIME:20240415T074331Z
LAST-MODIFIED;VALUE=DATE-TIME:20240415T074717Z
LOCATION:Sala Fiveller
URL:https://www.molletvalles.cat/ca/actualitat/agenda/teatre-la-reina-de-b
 ellesa-de-leenane
END:VEVENT
BEGIN:VTIMEZONE
TZID:Europe/Madrid
X-LIC-LOCATION:Europe/Madrid
BEGIN:DAYLIGHT
DTSTART;VALUE=DATE-TIME:20240331T030000
TZNAME:CEST
TZOFFSETFROM:+0100
TZOFFSETTO:+0200
END:DAYLIGHT
END:VTIMEZONE
END:VCALENDAR
