BEGIN:VCALENDAR
VERSION:2.0
PRODID:-//Plone.org//NONSGML plone.app.event//EN
X-WR-TIMEZONE:Europe/Madrid
BEGIN:VEVENT
SUMMARY:Teatre: "Un punt de vista" a càrrec del Grup de Teatre Can Pantiq
 uet
DTSTART;TZID=Europe/Madrid;VALUE=DATE-TIME:20230318T190000
DTEND;TZID=Europe/Madrid;VALUE=DATE-TIME:20230318T200000
DTSTAMP;VALUE=DATE-TIME:20260425T121738Z
UID:f7a9cc96961841889bbf82b92c32dcb3@www.molletvalles.cat
CATEGORIES:Música\, cinema i espectacles
CREATED;VALUE=DATE-TIME:20230306T080802Z
LAST-MODIFIED;VALUE=DATE-TIME:20230307T101143Z
URL:https://www.molletvalles.cat/ca/actualitat/agenda/teatre-un-punt-de-vi
 sta-a-carrec-del-grup-de-teatre-can-pantiquet
END:VEVENT
BEGIN:VTIMEZONE
TZID:Europe/Madrid
X-LIC-LOCATION:Europe/Madrid
BEGIN:STANDARD
DTSTART;VALUE=DATE-TIME:20221030T020000
TZNAME:CET
TZOFFSETFROM:+0200
TZOFFSETTO:+0100
END:STANDARD
END:VTIMEZONE
END:VCALENDAR
