BEGIN:VCALENDAR
VERSION:2.0
PRODID:-//Plone.org//NONSGML plone.app.event//EN
X-WR-TIMEZONE:Europe/Madrid
BEGIN:VEVENT
SUMMARY:Tertúlia literària: Es parlarà del llibre "La primera estrella 
 del vespre" amb l'autora Nadia Ghulam
DTSTART;TZID=Europe/Madrid;VALUE=DATE-TIME:20250219T183000
DTEND;TZID=Europe/Madrid;VALUE=DATE-TIME:20250219T193000
DTSTAMP;VALUE=DATE-TIME:20260419T162313Z
UID:6ef77798800b46c593474ca13cdd8a97@www.molletvalles.cat
CATEGORIES:Xerrades
CREATED;VALUE=DATE-TIME:20250210T075442Z
LAST-MODIFIED;VALUE=DATE-TIME:20250213T091353Z
URL:https://www.molletvalles.cat/ca/actualitat/agenda/tertulia-literaria-e
 s-parlara-del-llibre-la-primera-estrella-del-vespre-amb-lautora-nadia-ghul
 am
END:VEVENT
BEGIN:VTIMEZONE
TZID:Europe/Madrid
X-LIC-LOCATION:Europe/Madrid
BEGIN:STANDARD
DTSTART;VALUE=DATE-TIME:20241027T020000
TZNAME:CET
TZOFFSETFROM:+0200
TZOFFSETTO:+0100
END:STANDARD
END:VTIMEZONE
END:VCALENDAR
