BEGIN:VCALENDAR
VERSION:2.0
PRODID:-//Plone.org//NONSGML plone.app.event//EN
X-WR-TIMEZONE:Europe/Madrid
BEGIN:VEVENT
SUMMARY:Torneig Ciutat de Mollet de bàsquet amb cadira de rodes
DTSTART;VALUE=DATE:20260606
DTEND;VALUE=DATE:20260607
DTSTAMP;VALUE=DATE-TIME:20260425T043019Z
UID:3e3ac6f6577d4186a27e3d190063edcb@www.molletvalles.cat
CATEGORIES:Esports
CREATED;VALUE=DATE-TIME:20260424T074749Z
LAST-MODIFIED;VALUE=DATE-TIME:20260424T084025Z
LOCATION:Pavelló Municipal Plana Lledó
URL:https://www.molletvalles.cat/ca/actualitat/agenda/torneig-ciutat-de-mo
 llet-de-basquet-amb-cadira-de-rodes-1
END:VEVENT
END:VCALENDAR
