BEGIN:VCALENDAR
VERSION:2.0
PRODID:-//Plone.org//NONSGML plone.app.event//EN
X-WR-TIMEZONE:Europe/Madrid
BEGIN:VEVENT
SUMMARY:Torneig  de petanca de Festa Major
DTSTART;TZID=Europe/Madrid;VALUE=DATE-TIME:20250816T090000
DTEND;TZID=Europe/Madrid;VALUE=DATE-TIME:20250816T121500
DTSTAMP;VALUE=DATE-TIME:20260421T140045Z
UID:b6f44e7f097147a5803f64d5092f925a@www.molletvalles.cat
CATEGORIES:Esports,Turisme
CREATED;VALUE=DATE-TIME:20250728T084226Z
DESCRIPTION:FESTA MAJOR 2025
LAST-MODIFIED;VALUE=DATE-TIME:20250728T114639Z
LOCATION:Pistes de Petanca de Riera Seca
URL:https://www.molletvalles.cat/ca/actualitat/agenda/torneig-de-petanca-d
 e-festa-major-2
END:VEVENT
BEGIN:VTIMEZONE
TZID:Europe/Madrid
X-LIC-LOCATION:Europe/Madrid
BEGIN:DAYLIGHT
DTSTART;VALUE=DATE-TIME:20250330T030000
TZNAME:CEST
TZOFFSETFROM:+0100
TZOFFSETTO:+0200
END:DAYLIGHT
END:VTIMEZONE
END:VCALENDAR
