BEGIN:VCALENDAR
VERSION:2.0
PRODID:-//Plone.org//NONSGML plone.app.event//EN
X-WR-TIMEZONE:Europe/Madrid
BEGIN:VEVENT
SUMMARY:Torneig de Vòlei
DTSTART;TZID=Europe/Madrid;VALUE=DATE-TIME:20260508T170000
DTEND;TZID=Europe/Madrid;VALUE=DATE-TIME:20260508T180000
DTSTAMP;VALUE=DATE-TIME:20260425T035415Z
UID:2c907b3434fb412c81319cfc6edcccb4@www.molletvalles.cat
CATEGORIES:Esports
CREATED;VALUE=DATE-TIME:20260424T090807Z
LAST-MODIFIED;VALUE=DATE-TIME:20260424T091326Z
LOCATION:Institut Mollet
URL:https://www.molletvalles.cat/ca/actualitat/agenda/torneig-de-volei-1
END:VEVENT
BEGIN:VTIMEZONE
TZID:Europe/Madrid
X-LIC-LOCATION:Europe/Madrid
BEGIN:DAYLIGHT
DTSTART;VALUE=DATE-TIME:20260329T030000
TZNAME:CEST
TZOFFSETFROM:+0100
TZOFFSETTO:+0200
END:DAYLIGHT
END:VTIMEZONE
END:VCALENDAR
