BEGIN:VCALENDAR
VERSION:2.0
PRODID:-//Plone.org//NONSGML plone.app.event//EN
X-WR-TIMEZONE:Europe/Madrid
BEGIN:VEVENT
SUMMARY:Torneig mini ciutat de Mollet
DTSTART;VALUE=DATE:20260502
DTEND;VALUE=DATE:20260503
DTSTAMP;VALUE=DATE-TIME:20260425T035507Z
UID:2bcec6ed81e44c64a8949984f2a1f14b@www.molletvalles.cat
CATEGORIES:Esports
CREATED;VALUE=DATE-TIME:20260424T065659Z
LAST-MODIFIED;VALUE=DATE-TIME:20260424T081616Z
LOCATION:Pavelló Municipal Plana Lledó
URL:https://www.molletvalles.cat/ca/actualitat/agenda/torneig-mini-ciutat-
 de-mollet-1
END:VEVENT
END:VCALENDAR
