BEGIN:VCALENDAR
VERSION:2.0
PRODID:-//Plone.org//NONSGML plone.app.event//EN
X-WR-TIMEZONE:Europe/Madrid
BEGIN:VEVENT
SUMMARY:Torraestàtues acompanyats de la xaranga "Batucada Ketubara"
DTSTART;TZID=Europe/Madrid;VALUE=DATE-TIME:20240815T180000
DTEND;TZID=Europe/Madrid;VALUE=DATE-TIME:20240815T190000
DTSTAMP;VALUE=DATE-TIME:20260421T135906Z
UID:a5c16b1264294cdf97932fa3f7a439cb@www.molletvalles.cat
CATEGORIES:Festes populars
CREATED;VALUE=DATE-TIME:20240724T062600Z
DESCRIPTION:FESTA MAJOR 2024
LAST-MODIFIED;VALUE=DATE-TIME:20240724T064538Z
LOCATION:Parc de Les Pruneres I recorregut
URL:https://www.molletvalles.cat/ca/actualitat/agenda/torraestatues-acompa
 nyats-de-la-xaranga-batucada-ketubara
END:VEVENT
BEGIN:VTIMEZONE
TZID:Europe/Madrid
X-LIC-LOCATION:Europe/Madrid
BEGIN:DAYLIGHT
DTSTART;VALUE=DATE-TIME:20240331T030000
TZNAME:CEST
TZOFFSETFROM:+0100
TZOFFSETTO:+0200
END:DAYLIGHT
END:VTIMEZONE
END:VCALENDAR
