BEGIN:VCALENDAR
VERSION:2.0
PRODID:-//Plone.org//NONSGML plone.app.event//EN
X-WR-TIMEZONE:Europe/Madrid
BEGIN:VEVENT
SUMMARY:Trobada amb Zoe Balasch i el seu projecte "Totes\, bruixes"
DTSTART;TZID=Europe/Madrid;VALUE=DATE-TIME:20241127T190000
DTEND;TZID=Europe/Madrid;VALUE=DATE-TIME:20241127T200000
DTSTAMP;VALUE=DATE-TIME:20260421T173654Z
UID:7694dc891f544739b1ef03a29f3ef88e@www.molletvalles.cat
CATEGORIES:Actes diversos
CREATED;VALUE=DATE-TIME:20241114T094443Z
DESCRIPTION:25N DIA INTERNACIONAL PER A L'ERRADICACIÓ DE LA VIOLÈNCIA VE
 RS LES DONES
LAST-MODIFIED;VALUE=DATE-TIME:20241121T131320Z
LOCATION:CRA'P  - Pràctiques de creació i recerca artística- al carrer 
 Anselm Clavé\, 67 3r
URL:https://www.molletvalles.cat/ca/actualitat/agenda/trobada-amb-zoe-bala
 sch-i-el-seu-projecte-totes-bruixes
END:VEVENT
BEGIN:VTIMEZONE
TZID:Europe/Madrid
X-LIC-LOCATION:Europe/Madrid
BEGIN:STANDARD
DTSTART;VALUE=DATE-TIME:20241027T020000
TZNAME:CET
TZOFFSETFROM:+0200
TZOFFSETTO:+0100
END:STANDARD
END:VTIMEZONE
END:VCALENDAR
