BEGIN:VCALENDAR
VERSION:2.0
PRODID:-//Plone.org//NONSGML plone.app.event//EN
X-WR-TIMEZONE:Europe/Madrid
BEGIN:VEVENT
SUMMARY:Trobada d’Urban sketchers a la Casa del Pintor
DTSTART;VALUE=DATE:20230624
DTEND;VALUE=DATE:20230626
DTSTAMP;VALUE=DATE-TIME:20260423T153458Z
UID:4a9fd882ccb34f6aba024710ddc4c720@www.molletvalles.cat
CATEGORIES:Exposicions
CREATED;VALUE=DATE-TIME:20230612T120615Z
DESCRIPTION:ANY ABELLÓ
LAST-MODIFIED;VALUE=DATE-TIME:20230620T095026Z
URL:https://www.molletvalles.cat/ca/actualitat/agenda/trobada-d2019urban-s
 ketchers-a-la-casa-del-pintor
END:VEVENT
END:VCALENDAR
