BEGIN:VCALENDAR
VERSION:2.0
PRODID:-//Plone.org//NONSGML plone.app.event//EN
X-WR-TIMEZONE:Europe/Madrid
BEGIN:VEVENT
SUMMARY:Trobada Mollet Dibuixa
DTSTART;TZID=Europe/Madrid;VALUE=DATE-TIME:20250322T160000
DTEND;TZID=Europe/Madrid;VALUE=DATE-TIME:20250322T193000
DTSTAMP;VALUE=DATE-TIME:20260419T181834Z
UID:2a8fb54cb5b14211bf01adf3eb8b6b13@www.molletvalles.cat
CATEGORIES:Actes diversos
CREATED;VALUE=DATE-TIME:20250319T102856Z
LAST-MODIFIED;VALUE=DATE-TIME:20250319T104036Z
URL:https://www.molletvalles.cat/ca/actualitat/agenda/trobada-mollet-dibui
 xa
END:VEVENT
BEGIN:VTIMEZONE
TZID:Europe/Madrid
X-LIC-LOCATION:Europe/Madrid
BEGIN:STANDARD
DTSTART;VALUE=DATE-TIME:20241027T020000
TZNAME:CET
TZOFFSETFROM:+0200
TZOFFSETTO:+0100
END:STANDARD
END:VTIMEZONE
END:VCALENDAR
