BEGIN:VCALENDAR
VERSION:2.0
PRODID:-//Plone.org//NONSGML plone.app.event//EN
X-WR-TIMEZONE:Europe/Madrid
BEGIN:VEVENT
SUMMARY:Trobada Oberta: Coneix el futur de la mobilitat de Mollet del Vall
 ès
DTSTART;TZID=Europe/Madrid;VALUE=DATE-TIME:20240305T183000
DTEND;TZID=Europe/Madrid;VALUE=DATE-TIME:20240305T193000
DTSTAMP;VALUE=DATE-TIME:20260421T140233Z
UID:2bd5f2b251084666a719f6b148fd34fd@www.molletvalles.cat
CATEGORIES:Xerrades
CREATED;VALUE=DATE-TIME:20240301T064950Z
LAST-MODIFIED;VALUE=DATE-TIME:20240301T065239Z
LOCATION:Mollet Hub (Av. Jaume I\, 32)
URL:https://www.molletvalles.cat/ca/actualitat/agenda/trobada-oberta-conei
 x-el-futur-de-la-mobilitat-de-mollet-del-valles
END:VEVENT
BEGIN:VTIMEZONE
TZID:Europe/Madrid
X-LIC-LOCATION:Europe/Madrid
BEGIN:STANDARD
DTSTART;VALUE=DATE-TIME:20231029T020000
TZNAME:CET
TZOFFSETFROM:+0200
TZOFFSETTO:+0100
END:STANDARD
END:VTIMEZONE
END:VCALENDAR
