BEGIN:VCALENDAR
VERSION:2.0
PRODID:-//Plone.org//NONSGML plone.app.event//EN
X-WR-TIMEZONE:Europe/Madrid
BEGIN:VEVENT
SUMMARY:Tu cara no me suena - Karaoke Morat
DTSTART;TZID=Europe/Madrid;VALUE=DATE-TIME:20250811T210000
DTEND;TZID=Europe/Madrid;VALUE=DATE-TIME:20250811T233000
DTSTAMP;VALUE=DATE-TIME:20260421T135542Z
UID:b5e828453d3a40d8875d5ed469d5e2dc@www.molletvalles.cat
CATEGORIES:Festes populars,Turisme
CREATED;VALUE=DATE-TIME:20250724T071526Z
DESCRIPTION:FESTA MAJOR 2025
LAST-MODIFIED;VALUE=DATE-TIME:20250725T074447Z
LOCATION:Plaça Pau Casals
URL:https://www.molletvalles.cat/ca/actualitat/agenda/tu-cara-no-me-suena-
 karaoke-morat-2
END:VEVENT
BEGIN:VTIMEZONE
TZID:Europe/Madrid
X-LIC-LOCATION:Europe/Madrid
BEGIN:DAYLIGHT
DTSTART;VALUE=DATE-TIME:20250330T030000
TZNAME:CEST
TZOFFSETFROM:+0100
TZOFFSETTO:+0200
END:DAYLIGHT
END:VTIMEZONE
END:VCALENDAR
