BEGIN:VCALENDAR
VERSION:2.0
PRODID:-//Plone.org//NONSGML plone.app.event//EN
X-WR-TIMEZONE:Europe/Madrid
BEGIN:VEVENT
SUMMARY:Vermut en viu
DTSTART;VALUE=DATE:20260516
DTEND;VALUE=DATE:20260517
DTSTAMP;VALUE=DATE-TIME:20260425T035306Z
UID:ba5b5e6a4c9b43d596808a0daaebfef6@www.molletvalles.cat
CATEGORIES:Cursos i tallers
CREATED;VALUE=DATE-TIME:20260424T110730Z
LAST-MODIFIED;VALUE=DATE-TIME:20260424T113123Z
URL:https://www.molletvalles.cat/ca/actualitat/agenda/vermut-en-viu
END:VEVENT
END:VCALENDAR
