BEGIN:VCALENDAR
VERSION:2.0
PRODID:-//Plone.org//NONSGML plone.app.event//EN
X-WR-TIMEZONE:Europe/Madrid
BEGIN:VEVENT
SUMMARY:Vespres Gastronòmics - Receptes amb base vegetal
DTSTART;TZID=Europe/Madrid;VALUE=DATE-TIME:20260514T190000
DTEND;TZID=Europe/Madrid;VALUE=DATE-TIME:20260514T200000
DTSTAMP;VALUE=DATE-TIME:20260425T040001Z
UID:6d50dfda27a9418986435dde4304d02c@www.molletvalles.cat
CATEGORIES:Cursos i tallers
CREATED;VALUE=DATE-TIME:20260424T101201Z
LAST-MODIFIED;VALUE=DATE-TIME:20260424T105434Z
URL:https://www.molletvalles.cat/ca/actualitat/agenda/vespres-gastronomics
 -receptes-amb-base-vegetal
END:VEVENT
BEGIN:VTIMEZONE
TZID:Europe/Madrid
X-LIC-LOCATION:Europe/Madrid
BEGIN:DAYLIGHT
DTSTART;VALUE=DATE-TIME:20260329T030000
TZNAME:CEST
TZOFFSETFROM:+0100
TZOFFSETTO:+0200
END:DAYLIGHT
END:VTIMEZONE
END:VCALENDAR
