BEGIN:VCALENDAR
VERSION:2.0
PRODID:-//Plone.org//NONSGML plone.app.event//EN
X-WR-TIMEZONE:Europe/Madrid
BEGIN:VEVENT
SUMMARY:Vespres Gastronòmics - Sabors d'Arepas: Colombia i Veneçuela
DTSTART;TZID=Europe/Madrid;VALUE=DATE-TIME:20260430T190000
DTEND;TZID=Europe/Madrid;VALUE=DATE-TIME:20260430T200000
DTSTAMP;VALUE=DATE-TIME:20260422T230041Z
UID:6cb1bd414fc7427490f48d0820ae254e@www.molletvalles.cat
CATEGORIES:Cursos i tallers
CREATED;VALUE=DATE-TIME:20260422T110039Z
LAST-MODIFIED;VALUE=DATE-TIME:20260422T113050Z
LOCATION:Museu Abelló
URL:https://www.molletvalles.cat/ca/actualitat/agenda/vespres-gastronomics
 -sabors-darepas-colombia-i-venecuela
END:VEVENT
BEGIN:VTIMEZONE
TZID:Europe/Madrid
X-LIC-LOCATION:Europe/Madrid
BEGIN:DAYLIGHT
DTSTART;VALUE=DATE-TIME:20260329T030000
TZNAME:CEST
TZOFFSETFROM:+0100
TZOFFSETTO:+0200
END:DAYLIGHT
END:VTIMEZONE
END:VCALENDAR
