BEGIN:VCALENDAR
VERSION:2.0
PRODID:-//Plone.org//NONSGML plone.app.event//EN
X-WR-TIMEZONE:Europe/Madrid
BEGIN:VEVENT
SUMMARY:Vine a donar sang al Mercat Vell
DTSTART;VALUE=DATE:20251107
DTEND;VALUE=DATE:20251108
DTSTAMP;VALUE=DATE-TIME:20260423T121003Z
UID:53d9d62cc44f48a7bff3225b1b7c50d7@www.molletvalles.cat
CATEGORIES:Actes diversos
CREATED;VALUE=DATE-TIME:20250808T095548Z
LAST-MODIFIED;VALUE=DATE-TIME:20251023T110819Z
URL:https://www.molletvalles.cat/ca/actualitat/agenda/vine-a-donar-sang-al
 -mercat-vell-7
END:VEVENT
END:VCALENDAR
