BEGIN:VCALENDAR
VERSION:2.0
PRODID:-//Plone.org//NONSGML plone.app.event//EN
X-WR-TIMEZONE:Europe/Madrid
BEGIN:VEVENT
SUMMARY:Vine a donar sang al Mercat Vell
DTSTART;VALUE=DATE:20260109
DTEND;VALUE=DATE:20260110
DTSTAMP;VALUE=DATE-TIME:20260425T134733Z
UID:23d4aa902496438f81a89c31c0b236ec@www.molletvalles.cat
CATEGORIES:Actes diversos
CREATED;VALUE=DATE-TIME:20251219T105735Z
LAST-MODIFIED;VALUE=DATE-TIME:20251223T114047Z
URL:https://www.molletvalles.cat/ca/actualitat/agenda/vine-a-donar-sang-al
 -mercat-vell-9
END:VEVENT
END:VCALENDAR
