BEGIN:VCALENDAR
VERSION:2.0
PRODID:-//Plone.org//NONSGML plone.app.event//EN
X-WR-TIMEZONE:Europe/Madrid
BEGIN:VEVENT
SUMMARY:Visita a la Casa del Pintor Abelló i els titelles de la Casa Abel
 ló (taller familiar)
DTSTART;VALUE=DATE:20230331
DTEND;VALUE=DATE:20230403
DTSTAMP;VALUE=DATE-TIME:20260421T135709Z
UID:c51a65a44f564957868fe403de26fded@www.molletvalles.cat
CATEGORIES:Exposicions
CREATED;VALUE=DATE-TIME:20230331T110259Z
DESCRIPTION:MITMO 2023
LAST-MODIFIED;VALUE=DATE-TIME:20230331T114044Z
URL:https://www.molletvalles.cat/ca/actualitat/agenda/visita-a-la-casa-del
 -pintor-abello
END:VEVENT
END:VCALENDAR
