BEGIN:VCALENDAR
VERSION:2.0
PRODID:-//Plone.org//NONSGML plone.app.event//EN
X-WR-TIMEZONE:Europe/Madrid
BEGIN:VEVENT
SUMMARY:Visita els parcs i jardins de Mollet del Vallès: Visita guiada al
  Parc de Can Mulà
DTSTART;VALUE=DATE:20231203
DTEND;VALUE=DATE:20231204
DTSTAMP;VALUE=DATE-TIME:20260421T175042Z
UID:9c4463ca3e764e43b66a1e8c24c4a6d7@www.molletvalles.cat
CATEGORIES:Xerrades
CREATED;VALUE=DATE-TIME:20231124T084718Z
LAST-MODIFIED;VALUE=DATE-TIME:20231124T130250Z
LOCATION:Parc de Can Mulà
URL:https://www.molletvalles.cat/ca/actualitat/agenda/visita-els-parcs-i-j
 ardins-de-mollet-del-valles-visita-guiada-al-parc-de-can-mula
END:VEVENT
END:VCALENDAR
