BEGIN:VCALENDAR
VERSION:2.0
PRODID:-//Plone.org//NONSGML plone.app.event//EN
X-WR-TIMEZONE:Europe/Madrid
BEGIN:VEVENT
SUMMARY:Visita en clau de gènere a càrrec de Sybila Naranjo
DTSTART;TZID=Europe/Madrid;VALUE=DATE-TIME:20240819T200000
DTEND;TZID=Europe/Madrid;VALUE=DATE-TIME:20240819T210000
DTSTAMP;VALUE=DATE-TIME:20260421T140559Z
UID:a3dbd856c0e645e9b3dbee4ad9d564a2@www.molletvalles.cat
CATEGORIES:Exposicions
CREATED;VALUE=DATE-TIME:20240730T101313Z
DESCRIPTION:FESTA MAJOR 2024
LAST-MODIFIED;VALUE=DATE-TIME:20240802T090644Z
LOCATION:Casa del Pintor Joan Abelló
URL:https://www.molletvalles.cat/ca/actualitat/agenda/visita-en-clau-de-ge
 nere-a-carrec-de-sybila-naranjo
END:VEVENT
BEGIN:VTIMEZONE
TZID:Europe/Madrid
X-LIC-LOCATION:Europe/Madrid
BEGIN:DAYLIGHT
DTSTART;VALUE=DATE-TIME:20240331T030000
TZNAME:CEST
TZOFFSETFROM:+0100
TZOFFSETTO:+0200
END:DAYLIGHT
END:VTIMEZONE
END:VCALENDAR
