BEGIN:VCALENDAR
VERSION:2.0
PRODID:-//Plone.org//NONSGML plone.app.event//EN
X-WR-TIMEZONE:Europe/Madrid
BEGIN:VEVENT
SUMMARY:Visita guiada a Caixaforum Barcelona: Rubens i els artistes del ba
 rroc flamenc
DTSTART;TZID=Europe/Madrid;VALUE=DATE-TIME:20250629T100000
DTEND;TZID=Europe/Madrid;VALUE=DATE-TIME:20250629T170000
DTSTAMP;VALUE=DATE-TIME:20260421T160352Z
UID:759be6ffd6664f2f8640186245292e53@www.molletvalles.cat
CATEGORIES:Exposicions
CREATED;VALUE=DATE-TIME:20250616T104459Z
LAST-MODIFIED;VALUE=DATE-TIME:20250618T084853Z
LOCATION:Caixaforum Barcelona
URL:https://www.molletvalles.cat/ca/actualitat/agenda/visita-guiada-a-caix
 aforum-barcelona-rubens-i-els-artistes-del-barroc-flamenc
END:VEVENT
BEGIN:VTIMEZONE
TZID:Europe/Madrid
X-LIC-LOCATION:Europe/Madrid
BEGIN:DAYLIGHT
DTSTART;VALUE=DATE-TIME:20250330T030000
TZNAME:CEST
TZOFFSETFROM:+0100
TZOFFSETTO:+0200
END:DAYLIGHT
END:VTIMEZONE
END:VCALENDAR
