BEGIN:VCALENDAR
VERSION:2.0
PRODID:-//Plone.org//NONSGML plone.app.event//EN
X-WR-TIMEZONE:Europe/Madrid
BEGIN:VEVENT
SUMMARY:Xerrada:"La làpida romana de Mollet\, després d'un segle i mig d
 esapareguda"
DTSTART;TZID=Europe/Madrid;VALUE=DATE-TIME:20260302T180000
DTEND;TZID=Europe/Madrid;VALUE=DATE-TIME:20260302T190000
DTSTAMP;VALUE=DATE-TIME:20260423T140224Z
UID:9ce8f331030f404f901f646d74375267@www.molletvalles.cat
CATEGORIES:Xerrades
CREATED;VALUE=DATE-TIME:20260212T123225Z
LAST-MODIFIED;VALUE=DATE-TIME:20260213T093655Z
URL:https://www.molletvalles.cat/ca/actualitat/agenda/xerada-la-lapida-rom
 ana-de-mollet-despres-dun-segle-i-mig-desapareguda
END:VEVENT
BEGIN:VTIMEZONE
TZID:Europe/Madrid
X-LIC-LOCATION:Europe/Madrid
BEGIN:STANDARD
DTSTART;VALUE=DATE-TIME:20251026T020000
TZNAME:CET
TZOFFSETFROM:+0200
TZOFFSETTO:+0100
END:STANDARD
END:VTIMEZONE
END:VCALENDAR
