BEGIN:VCALENDAR
VERSION:2.0
PRODID:-//Plone.org//NONSGML plone.app.event//EN
X-WR-TIMEZONE:Europe/Madrid
BEGIN:VEVENT
SUMMARY:Xerrada: Art escènic i òpera\, amb Rosa Maria Carbonell\, divulg
 adora musical i Marta Busquets\, Directora d'Escena
DTSTART;TZID=Europe/Madrid;VALUE=DATE-TIME:20231123T200000
DTEND;TZID=Europe/Madrid;VALUE=DATE-TIME:20231123T210000
DTSTAMP;VALUE=DATE-TIME:20260421T140710Z
UID:58fd0167fb2e4b1fa1dd5e46592db0a3@www.molletvalles.cat
CATEGORIES:Xerrades
CREATED;VALUE=DATE-TIME:20231108T085649Z
LAST-MODIFIED;VALUE=DATE-TIME:20231108T110631Z
URL:https://www.molletvalles.cat/ca/actualitat/agenda/xerrada-art-escenic-
 i-opera-amb-rosa-maria-carbonell-divulgadora-musical-i-marta-busquets-dire
 ctora-descena
END:VEVENT
BEGIN:VTIMEZONE
TZID:Europe/Madrid
X-LIC-LOCATION:Europe/Madrid
BEGIN:STANDARD
DTSTART;VALUE=DATE-TIME:20231029T020000
TZNAME:CET
TZOFFSETFROM:+0200
TZOFFSETTO:+0100
END:STANDARD
END:VTIMEZONE
END:VCALENDAR
