BEGIN:VCALENDAR
VERSION:2.0
PRODID:-//Plone.org//NONSGML plone.app.event//EN
X-WR-TIMEZONE:Europe/Madrid
BEGIN:VEVENT
SUMMARY:Xerrada: Clausura de l'exposició "La col·lecció creix. Dipòsit
 s i donacions al Museu Abelló"
DTSTART;TZID=Europe/Madrid;VALUE=DATE-TIME:20250219T190000
DTEND;TZID=Europe/Madrid;VALUE=DATE-TIME:20250219T200000
DTSTAMP;VALUE=DATE-TIME:20260421T140637Z
UID:4fd3c892de6345a5a184ad45a71a387f@www.molletvalles.cat
CATEGORIES:Xerrades
CREATED;VALUE=DATE-TIME:20250207T101958Z
LAST-MODIFIED;VALUE=DATE-TIME:20250213T092427Z
URL:https://www.molletvalles.cat/ca/actualitat/agenda/xerrada-clausura-de-
 lexposicio-la-col-leccio-creix-diposits-i-donacions-al-museu-abello
END:VEVENT
BEGIN:VTIMEZONE
TZID:Europe/Madrid
X-LIC-LOCATION:Europe/Madrid
BEGIN:STANDARD
DTSTART;VALUE=DATE-TIME:20241027T020000
TZNAME:CET
TZOFFSETFROM:+0200
TZOFFSETTO:+0100
END:STANDARD
END:VTIMEZONE
END:VCALENDAR
