BEGIN:VCALENDAR
VERSION:2.0
PRODID:-//Plone.org//NONSGML plone.app.event//EN
X-WR-TIMEZONE:Europe/Madrid
BEGIN:VEVENT
SUMMARY:Xerrada: "Detectar i prevenir el maltractament a les persones gran
 s"
DTSTART;TZID=Europe/Madrid;VALUE=DATE-TIME:20240226T180000
DTEND;TZID=Europe/Madrid;VALUE=DATE-TIME:20240226T190000
DTSTAMP;VALUE=DATE-TIME:20260421T174731Z
UID:c95f5d1c307c4fc6a4b4c09cce62362f@www.molletvalles.cat
CATEGORIES:Xerrades
CREATED;VALUE=DATE-TIME:20240125T092054Z
LAST-MODIFIED;VALUE=DATE-TIME:20240125T102743Z
URL:https://www.molletvalles.cat/ca/actualitat/agenda/xerrada-detectar-i-p
 revenir-el-maltractament-a-les-persones-grans2
END:VEVENT
BEGIN:VTIMEZONE
TZID:Europe/Madrid
X-LIC-LOCATION:Europe/Madrid
BEGIN:STANDARD
DTSTART;VALUE=DATE-TIME:20231029T020000
TZNAME:CET
TZOFFSETFROM:+0200
TZOFFSETTO:+0100
END:STANDARD
END:VTIMEZONE
END:VCALENDAR
