BEGIN:VCALENDAR
VERSION:2.0
PRODID:-//Plone.org//NONSGML plone.app.event//EN
X-WR-TIMEZONE:Europe/Madrid
BEGIN:VEVENT
SUMMARY:Xerrada dins del cicle "Parlem de Salut": La sexualitat i l'orgasm
 e femení
DTSTART;TZID=Europe/Madrid;VALUE=DATE-TIME:20230329T180000
DTEND;TZID=Europe/Madrid;VALUE=DATE-TIME:20230329T190000
DTSTAMP;VALUE=DATE-TIME:20260425T121856Z
UID:cdc2394bb90f458e895ceff0594b0d2b@www.molletvalles.cat
CATEGORIES:Conferències
CREATED;VALUE=DATE-TIME:20230227T134811Z
DESCRIPTION:8 DE MARÇ
LAST-MODIFIED;VALUE=DATE-TIME:20230310T121622Z
URL:https://www.molletvalles.cat/ca/actualitat/agenda/xerrada-dins-del-cic
 le-parlem-de-salut-la-sexualitat-i-lorgasme-femeni
END:VEVENT
BEGIN:VTIMEZONE
TZID:Europe/Madrid
X-LIC-LOCATION:Europe/Madrid
BEGIN:DAYLIGHT
DTSTART;VALUE=DATE-TIME:20230326T030000
TZNAME:CEST
TZOFFSETFROM:+0100
TZOFFSETTO:+0200
END:DAYLIGHT
END:VTIMEZONE
END:VCALENDAR
