BEGIN:VCALENDAR
VERSION:2.0
PRODID:-//Plone.org//NONSGML plone.app.event//EN
X-WR-TIMEZONE:Europe/Madrid
BEGIN:VEVENT
SUMMARY:Xerrada: "Pagesia de proximitat en temps de canvi climàtic"\, a c
 àrrec  de Ricard Alcojor\, membre de Llavors Orientals
DTSTART;TZID=Europe/Madrid;VALUE=DATE-TIME:20241107T183000
DTEND;TZID=Europe/Madrid;VALUE=DATE-TIME:20241107T193000
DTSTAMP;VALUE=DATE-TIME:20260423T105412Z
UID:db7d05502ce2414cb01f1f398cf9b086@www.molletvalles.cat
CATEGORIES:Xerrades
CREATED;VALUE=DATE-TIME:20241031T113235Z
LAST-MODIFIED;VALUE=DATE-TIME:20241104T083041Z
URL:https://www.molletvalles.cat/ca/actualitat/agenda/xerrada-pagesia-de-p
 roximitat-en-temps-de-canvi-climatic-a-carrec-de-ricard-alcojor-membre-de-
 llavors-orientals
END:VEVENT
BEGIN:VTIMEZONE
TZID:Europe/Madrid
X-LIC-LOCATION:Europe/Madrid
BEGIN:STANDARD
DTSTART;VALUE=DATE-TIME:20241027T020000
TZNAME:CET
TZOFFSETFROM:+0200
TZOFFSETTO:+0100
END:STANDARD
END:VTIMEZONE
END:VCALENDAR
