BEGIN:VCALENDAR
VERSION:2.0
PRODID:-//Plone.org//NONSGML plone.app.event//EN
X-WR-TIMEZONE:Europe/Madrid
BEGIN:VEVENT
SUMMARY:Xerrada sobre el poble sahrauí i presentació del llibre "Verde y
  negro Sáhara\, las imágenes del silencio"
DTSTART;TZID=Europe/Madrid;VALUE=DATE-TIME:20240131T183000
DTEND;TZID=Europe/Madrid;VALUE=DATE-TIME:20240131T193000
DTSTAMP;VALUE=DATE-TIME:20260419T144658Z
UID:2d75623c00ac4140a94d5ed6c2027892@www.molletvalles.cat
CATEGORIES:Xerrades
CREATED;VALUE=DATE-TIME:20240119T120817Z
LAST-MODIFIED;VALUE=DATE-TIME:20240125T063815Z
URL:https://www.molletvalles.cat/ca/actualitat/agenda/xerrada-sobre-el-pob
 le-sahraui-i-presentacio-del-llibre-verde-y-negro-sahara-las-imagenes-del-
 silencio
END:VEVENT
BEGIN:VTIMEZONE
TZID:Europe/Madrid
X-LIC-LOCATION:Europe/Madrid
BEGIN:STANDARD
DTSTART;VALUE=DATE-TIME:20231029T020000
TZNAME:CET
TZOFFSETFROM:+0200
TZOFFSETTO:+0100
END:STANDARD
END:VTIMEZONE
END:VCALENDAR
